BEGIN:VCALENDAR
VERSION:2.0
PRODID:-//Harwell Village Hall - ECPv6.15.20//NONSGML v1.0//EN
CALSCALE:GREGORIAN
METHOD:PUBLISH
X-WR-CALNAME:Harwell Village Hall
X-ORIGINAL-URL:https://www.harwellvillagehall.co.uk
X-WR-CALDESC:Events for Harwell Village Hall
REFRESH-INTERVAL;VALUE=DURATION:PT1H
X-Robots-Tag:noindex
X-PUBLISHED-TTL:PT1H
BEGIN:VTIMEZONE
TZID:Europe/London
BEGIN:DAYLIGHT
TZOFFSETFROM:+0000
TZOFFSETTO:+0100
TZNAME:BST
DTSTART:20170326T010000
END:DAYLIGHT
BEGIN:STANDARD
TZOFFSETFROM:+0100
TZOFFSETTO:+0000
TZNAME:GMT
DTSTART:20171029T010000
END:STANDARD
BEGIN:DAYLIGHT
TZOFFSETFROM:+0000
TZOFFSETTO:+0100
TZNAME:BST
DTSTART:20180325T010000
END:DAYLIGHT
BEGIN:STANDARD
TZOFFSETFROM:+0100
TZOFFSETTO:+0000
TZNAME:GMT
DTSTART:20181028T010000
END:STANDARD
BEGIN:DAYLIGHT
TZOFFSETFROM:+0000
TZOFFSETTO:+0100
TZNAME:BST
DTSTART:20190331T010000
END:DAYLIGHT
BEGIN:STANDARD
TZOFFSETFROM:+0100
TZOFFSETTO:+0000
TZNAME:GMT
DTSTART:20191027T010000
END:STANDARD
BEGIN:DAYLIGHT
TZOFFSETFROM:+0000
TZOFFSETTO:+0100
TZNAME:BST
DTSTART:20200329T010000
END:DAYLIGHT
BEGIN:STANDARD
TZOFFSETFROM:+0100
TZOFFSETTO:+0000
TZNAME:GMT
DTSTART:20201025T010000
END:STANDARD
BEGIN:DAYLIGHT
TZOFFSETFROM:+0000
TZOFFSETTO:+0100
TZNAME:BST
DTSTART:20210328T010000
END:DAYLIGHT
BEGIN:STANDARD
TZOFFSETFROM:+0100
TZOFFSETTO:+0000
TZNAME:GMT
DTSTART:20211031T010000
END:STANDARD
BEGIN:DAYLIGHT
TZOFFSETFROM:+0000
TZOFFSETTO:+0100
TZNAME:BST
DTSTART:20220327T010000
END:DAYLIGHT
BEGIN:STANDARD
TZOFFSETFROM:+0100
TZOFFSETTO:+0000
TZNAME:GMT
DTSTART:20221030T010000
END:STANDARD
BEGIN:DAYLIGHT
TZOFFSETFROM:+0000
TZOFFSETTO:+0100
TZNAME:BST
DTSTART:20230326T010000
END:DAYLIGHT
BEGIN:STANDARD
TZOFFSETFROM:+0100
TZOFFSETTO:+0000
TZNAME:GMT
DTSTART:20231029T010000
END:STANDARD
BEGIN:DAYLIGHT
TZOFFSETFROM:+0000
TZOFFSETTO:+0100
TZNAME:BST
DTSTART:20240331T010000
END:DAYLIGHT
BEGIN:STANDARD
TZOFFSETFROM:+0100
TZOFFSETTO:+0000
TZNAME:GMT
DTSTART:20241027T010000
END:STANDARD
BEGIN:DAYLIGHT
TZOFFSETFROM:+0000
TZOFFSETTO:+0100
TZNAME:BST
DTSTART:20250330T010000
END:DAYLIGHT
BEGIN:STANDARD
TZOFFSETFROM:+0100
TZOFFSETTO:+0000
TZNAME:GMT
DTSTART:20251026T010000
END:STANDARD
BEGIN:DAYLIGHT
TZOFFSETFROM:+0000
TZOFFSETTO:+0100
TZNAME:BST
DTSTART:20260329T010000
END:DAYLIGHT
BEGIN:STANDARD
TZOFFSETFROM:+0100
TZOFFSETTO:+0000
TZNAME:GMT
DTSTART:20261025T010000
END:STANDARD
BEGIN:DAYLIGHT
TZOFFSETFROM:+0000
TZOFFSETTO:+0100
TZNAME:BST
DTSTART:20270328T010000
END:DAYLIGHT
BEGIN:STANDARD
TZOFFSETFROM:+0100
TZOFFSETTO:+0000
TZNAME:GMT
DTSTART:20271031T010000
END:STANDARD
END:VTIMEZONE
BEGIN:VEVENT
DTSTART;TZID=Europe/London:20260125T153000
DTEND;TZID=Europe/London:20260125T173000
DTSTAMP:20260424T092411
CREATED:20251109T174756Z
LAST-MODIFIED:20251109T174756Z
UID:5827-1769355000-1769362200@www.harwellvillagehall.co.uk
SUMMARY:Didcot Phoenix Drama Group present The Little Mermaid
DESCRIPTION:Didcot Phoenix Drama Group is excited to bring you on an adventure with their family pantomime\, The Little Mermaid! \nWith a script written by Devon Tyrrell\, the drama group will take on a new adaptation of a much- loved fairy tale. \nOur tale will be familiar to devotees of Hans Christian Andersen’s tale of the mermaid who swapped her voice for legs so that she can marry the prince of her dreams she has saved from drowning while on her visit to the land. \nIn our version\, the mermaid is called Oceana.  She has 24 hours to convince Prince Hans to marry her before she turns into sea foam\, all without her voice that she has bargained with the evil Sea Witch\, Pearl. \nWill Oceana get to Prince Hans before Pearl does?  Will Queen Iva ever convince Prince Hans to get married?  Will Oceana’s friends and family be able to help her get her voice back? \nWhy is everyone just eating fish? \nSo\, dive in and join Oceana to discover what can happen when you give up your voice\,  for the chance to walk on land! \nWe will be at Harwell Village Hall on Sunday 25th of January 2026 at 3:30pm. \nTickets are £12pp for adult\, £10pp for children and concessions\, and £38 for the family bundle! \nBuy Tickets from Ticketsource: https://www.ticketsource.co.uk/didcot-phoenix-drama-group  or look at their website: https://didcotphoenixdrama.co.uk/
URL:https://www.harwellvillagehall.co.uk/event/didcot-phoenix-drama-group-present-the-little-mermaid/
LOCATION:Orchard Hall
CATEGORIES:Theatre
ATTACH;FMTTYPE=image/jpeg:https://www.harwellvillagehall.co.uk/wp-content/uploads/2025/11/phoenix-panto-2026.jpg
ORGANIZER;CN="Didcot Phoenix Drama Group":MAILTO:didcotphoenixdramagroup@gmail.com
END:VEVENT
BEGIN:VEVENT
DTSTART;TZID=Europe/London:20250912T193000
DTEND;TZID=Europe/London:20250912T220000
DTSTAMP:20260424T092411
CREATED:20250901T175411Z
LAST-MODIFIED:20250901T175527Z
UID:5785-1757705400-1757714400@www.harwellvillagehall.co.uk
SUMMARY:Didcot Phoenix Drama Group presents their Festival Showcase!
DESCRIPTION:Didcot Phooenix Drama Group are pleased to present a Showcase evening of two award winning one-act plays\, on Friday 12th September at 7.30pm in Harwell Village Hall.  Reviving two pieces from this year’s Oxfordshire theatre festival season\, we bring you Visitors by Emma Gardner and Calling All the Dreamers by Adelina Inganno. \n‘Visitors’ is a situation comedy set at Little Denys Castle\, England’s most boring ancient monument\, where the staff are facing an unexpected new phenomenon: visitors.  Site manager Freya\, pedantic volunteer Joan\, and work experience student Sally must overcome fudge shrapnel\, new-age gardeners and flying tomatoes to convince the tourists that Little Denys is worth visiting.  Above all\, they must stop their unexpected visitors escaping to Beaumaven – the grand castle next door\, whose site manager\, Shirley\, would very much like her visitors back. \n‘Calling All the Dreamers’ is inspired by the works of Dario Fo.  This is a world where Artificial Intelligence has seeped into every corner of daily life.  It is a fast-paced\, absurdist farce that follows the working class as they struggle to navigate an increasingly AI driven society that leaves people like them behind.  Brimming with black humour\, social commentary and biting satire\, Calling All the Dreamers is a wake-up call and a warning about the promises and risks new technology brings. \nTickets are £10 and £7 available in advance from www.ticketsource.co.uk/didcot-phoenix-drama-group or on the door. \n 
URL:https://www.harwellvillagehall.co.uk/event/didcot-phoenix-drama-group-presents-their-festival-showcase/
LOCATION:Orchard Hall
CATEGORIES:Theatre
ATTACH;FMTTYPE=image/jpeg:https://www.harwellvillagehall.co.uk/wp-content/uploads/2025/09/Showcase-Poster-724x1024-1.jpg
ORGANIZER;CN="Didcot Phoenix Drama Group":MAILTO:didcotphoenixdramagroup@gmail.com
END:VEVENT
BEGIN:VEVENT
DTSTART;TZID=Europe/London:20250208T193000
DTEND;TZID=Europe/London:20250208T213000
DTSTAMP:20260424T092411
CREATED:20250206T042022Z
LAST-MODIFIED:20250206T045702Z
UID:5614-1739043000-1739050200@www.harwellvillagehall.co.uk
SUMMARY:Didcot Phoenix Drama Group present "A Long Time Ago..."
DESCRIPTION:The Didcot Phoenix Drama Group (which includes at least 10 Harwell members) is performing this year’s panto in Harwell Village Hall on Saturday 8th February at 2.30 p.m. and 7.30 p.m. Called “A Long Time Ago”\, it is actually Aladdin but set in outer space (!). It is very colourful\, with music and dancing and all the traditional panto elements. For more information\, and a look and listen at some of the characters\, see https://didcotphoenixdrama.co.uk/ \nTickets from www.ticketsource.co.uk/didcot-phoenix-drama-group or via friends or at the door. \n\nAdults (aged 16 +) £12.00\nConcessions (children 4-15\, OAPs\, those with disabilities) £10.00\nChildren 0-3 free and there is also a family ticket
URL:https://www.harwellvillagehall.co.uk/event/didcot-phoenix-drama-group-present-a-long-time-ago/
LOCATION:Orchard Hall
CATEGORIES:Theatre
ATTACH;FMTTYPE=image/jpeg:https://www.harwellvillagehall.co.uk/wp-content/uploads/2025/02/ALTA-poster-Feb-2025.jpeg
ORGANIZER;CN="Didcot Phoenix Drama Group":MAILTO:didcotphoenixdramagroup@gmail.com
END:VEVENT
BEGIN:VEVENT
DTSTART;TZID=Europe/London:20250208T143000
DTEND;TZID=Europe/London:20250208T163000
DTSTAMP:20260424T092411
CREATED:20250206T041820Z
LAST-MODIFIED:20250206T041835Z
UID:5608-1739025000-1739032200@www.harwellvillagehall.co.uk
SUMMARY:Didcot Phoenix Drama presents "A Long Time Ago..."
DESCRIPTION:The Didcot Phoenix Drama Group (which includes at least 10 Harwell members) is performing this year’s panto in Harwell Village Hall on Saturday 8th February at 2.30 p.m. and 7.30 p.m. Called “A Long Time Ago”\, it is actually Aladdin but set in outer space (!). It is very colourful\, with music and dancing and all the traditional panto elements. For more information\, and a look and listen at some of the characters\, see https://didcotphoenixdrama.co.uk/ \nTickets from www.ticketsource.co.uk/didcot-phoenix-drama-group or via friends or at the door. \n\nAdults (aged 16 +) £12.00\nConcessions (children 4-15\, OAPs\, those with disabilities) £10.00\nChildren 0-3 free and there is also a family ticket
URL:https://www.harwellvillagehall.co.uk/event/didcot-phoenix-drama-presents-a-long-time-ago/
LOCATION:Orchard Hall
CATEGORIES:Theatre
ATTACH;FMTTYPE=image/jpeg:https://www.harwellvillagehall.co.uk/wp-content/uploads/2025/02/ALTA-poster-Feb-2025.jpeg
ORGANIZER;CN="Didcot Phoenix Drama Group":MAILTO:didcotphoenixdramagroup@gmail.com
END:VEVENT
BEGIN:VEVENT
DTSTART;TZID=Europe/London:20240914T193000
DTEND;TZID=Europe/London:20240914T223000
DTSTAMP:20260424T092411
CREATED:20240816T150110Z
LAST-MODIFIED:20240816T150110Z
UID:5429-1726342200-1726353000@www.harwellvillagehall.co.uk
SUMMARY:Murder at Phoenix Court
DESCRIPTION:A light hearted murder mystery. \nTickets from https://www.ticketsource.co.uk/didcot-phoenix-drama-group or on the door
URL:https://www.harwellvillagehall.co.uk/event/murder-at-phoenix-court/
LOCATION:Orchard Hall
CATEGORIES:Comedy,Theatre
ATTACH;FMTTYPE=image/jpeg:https://www.harwellvillagehall.co.uk/wp-content/uploads/2024/08/final-poster.jpg
ORGANIZER;CN="Didcot Phoenix Drama Group":MAILTO:didcotphoenixdramagroup@gmail.com
END:VEVENT
BEGIN:VEVENT
DTSTART;TZID=Europe/London:20240707T170000
DTEND;TZID=Europe/London:20240707T190000
DTSTAMP:20260424T092411
CREATED:20240614T153317Z
LAST-MODIFIED:20240614T153317Z
UID:5406-1720371600-1720378800@www.harwellvillagehall.co.uk
SUMMARY:Gobo Theatre presents - The Final Spell
DESCRIPTION:A new musical by Amy Standish and Becky Reed \nAt Harwell Village Hall on \n\nFriday 5th July at 7pm\nSaturday 6th July at 7pm\nSunday 7th July at 5pm\n\n£12 adults / £6 Under 18s \nTo book tickets go to https://www.gobotheatre.co.uk/book-tickets/
URL:https://www.harwellvillagehall.co.uk/event/gobo-theatre-presents-the-final-spell-3/
LOCATION:Orchard Hall
CATEGORIES:Theatre
ATTACH;FMTTYPE=image/png:https://www.harwellvillagehall.co.uk/wp-content/uploads/2024/06/The-Final-Spell-Poster.png
ORGANIZER;CN="Gobo Theatre":MAILTO:info@gobotheatre.co.uk
END:VEVENT
BEGIN:VEVENT
DTSTART;TZID=Europe/London:20240706T190000
DTEND;TZID=Europe/London:20240706T210000
DTSTAMP:20260424T092411
CREATED:20240614T153158Z
LAST-MODIFIED:20240614T153158Z
UID:5404-1720292400-1720299600@www.harwellvillagehall.co.uk
SUMMARY:Gobo Theatre presents - The Final Spell
DESCRIPTION:A new musical by Amy Standish and Becky Reed \nAt Harwell Village Hall on \n\nFriday 5th July at 7pm\nSaturday 6th July at 7pm\nSunday 7th July at 5pm\n\n£12 adults / £6 Under 18s \nTo book tickets go to https://www.gobotheatre.co.uk/book-tickets/
URL:https://www.harwellvillagehall.co.uk/event/gobo-theatre-presents-the-final-spell-2/
LOCATION:Orchard Hall
CATEGORIES:Theatre
ATTACH;FMTTYPE=image/png:https://www.harwellvillagehall.co.uk/wp-content/uploads/2024/06/The-Final-Spell-Poster.png
ORGANIZER;CN="Gobo Theatre":MAILTO:info@gobotheatre.co.uk
END:VEVENT
BEGIN:VEVENT
DTSTART;TZID=Europe/London:20240705T190000
DTEND;TZID=Europe/London:20240705T210000
DTSTAMP:20260424T092411
CREATED:20240614T152956Z
LAST-MODIFIED:20240614T153340Z
UID:5399-1720206000-1720213200@www.harwellvillagehall.co.uk
SUMMARY:Gobo Theatre presents - The Final Spell
DESCRIPTION:A new musical by Amy Standish and Becky Reed \nAt Harwell Village Hall on \n\nFriday 5th July at 7pm\nSaturday 6th July at 7pm\nSunday 7th July at 5pm\n\n£12 adults / £6 Under 18s \nTo book tickets go to https://www.gobotheatre.co.uk/book-tickets/ \n 
URL:https://www.harwellvillagehall.co.uk/event/gobo-theatre-presents-the-final-spell/
LOCATION:Orchard Hall
CATEGORIES:Theatre
ATTACH;FMTTYPE=image/png:https://www.harwellvillagehall.co.uk/wp-content/uploads/2024/06/The-Final-Spell-Poster.png
ORGANIZER;CN="Gobo Theatre":MAILTO:info@gobotheatre.co.uk
END:VEVENT
BEGIN:VEVENT
DTSTART;TZID=Europe/London:20191130T153000
DTEND;TZID=Europe/London:20191130T170000
DTSTAMP:20260424T092411
CREATED:20191010T140452Z
LAST-MODIFIED:20191115T052334Z
UID:4049-1575127800-1575133200@www.harwellvillagehall.co.uk
SUMMARY:Cinderella - A Traditional Pantomime!
DESCRIPTION:“Cinderella” is a typical rags to riches story \, with all the usual elements along the way: a wicked stepmother\, ugly sisters\, a handsome prince\, a beautiful maiden with a fairy godmother\, plus a comic duo. \nSuitable for all ages. \nTickets are £7 (£5 concessions) and are available Bob’s Butchers\, Harwell. \nJigsaw Stage Productions was founded in 2012 with the aim of providing high quality musical theatre to Wantage\, Grove\, Didcot and surrounding villages. We perform one full musical each year\, and a smaller event in between. \nOur next big musical will be The Sound of Music at The Beacon\, Wantage\, Thur 2nd to Sat 7th April and Cornerstone Didcot\, Thur 23rd April to Sat 25th April. \nEarlier this year in April we performed The King & I at the Beacon Wantage\, and Cornerstone Didcot.  Last year it was Oliver at the same venues. \nCome along and enjoy some Christmas fun.  See our website (below) for more details.
URL:https://www.harwellvillagehall.co.uk/event/cinderella-a-traditional-pantomime/
LOCATION:Orchard Hall
CATEGORIES:Children's event,Theatre
ATTACH;FMTTYPE=image/jpeg:https://www.harwellvillagehall.co.uk/wp-content/uploads/2019/10/Cinder-Flyer.jpg
END:VEVENT
BEGIN:VEVENT
DTSTART;TZID=Europe/London:20190721T190000
DTEND;TZID=Europe/London:20190721T213000
DTSTAMP:20260424T092411
CREATED:20181231T175049Z
LAST-MODIFIED:20190703T115428Z
UID:3807-1563735600-1563744600@www.harwellvillagehall.co.uk
SUMMARY:GoboYOOF presents “You Ain’t Nothin’ but a Werewolf”
DESCRIPTION:Watch out! There’s a hair-raisin’ musical teenage horror spoof in your village this summer! \nEveryone is getting excited about the appearance of a Werewolf in Riverdale High! There will be a full moon (of course!) and robots and a mad scientists lab! \nThe show is on in the Orchard Hall on Saturday 21st & Sunday 22nd July at 7pm. \nPlease come a support everyone if you can. It’s only £6 for adult tickets and £4 for children. Email us at info@gobotheatre.co.uk if you’d like tickets.
URL:https://www.harwellvillagehall.co.uk/event/goboyoof-presents-you-aint-nothin-but-a-werewolf-2/
LOCATION:Orchard Hall
CATEGORIES:Theatre
ATTACH;FMTTYPE=image/jpeg:https://www.harwellvillagehall.co.uk/wp-content/uploads/2018/12/GoboYoof-Werewolf-July19.jpg
ORGANIZER;CN="Gobo Theatre":MAILTO:info@gobotheatre.co.uk
END:VEVENT
BEGIN:VEVENT
DTSTART;TZID=Europe/London:20190720T190000
DTEND;TZID=Europe/London:20190720T213000
DTSTAMP:20260424T092411
CREATED:20181231T173356Z
LAST-MODIFIED:20190703T115338Z
UID:3800-1563649200-1563658200@www.harwellvillagehall.co.uk
SUMMARY:GoboYOOF presents "You Ain't Nothin' but a Werewolf"
DESCRIPTION:Watch out! There’s a hair-raisin’ musical teenage horror spoof in your village this summer! \nEveryone is getting excited about the appearance of a Werewolf in Riverdale High! There will be a full moon (of course!) and robots and a mad scientists lab! \nThe show is on in the Orchard Hall on Saturday 21st & Sunday 22nd July at 7pm. \nPlease come a support everyone if you can. It’s only £6 for adult tickets and £4 for children. Email us at info@gobotheatre.co.uk if you’d like tickets.
URL:https://www.harwellvillagehall.co.uk/event/goboyoof-presents-you-aint-nothin-but-a-werewolf/
LOCATION:Orchard Hall
CATEGORIES:Theatre
ATTACH;FMTTYPE=image/jpeg:https://www.harwellvillagehall.co.uk/wp-content/uploads/2018/12/GoboYoof-Werewolf-July19.jpg
ORGANIZER;CN="Gobo Theatre":MAILTO:info@gobotheatre.co.uk
END:VEVENT
BEGIN:VEVENT
DTSTART;TZID=Europe/London:20180722T184500
DTEND;TZID=Europe/London:20180722T210000
DTSTAMP:20260424T092411
CREATED:20171106T000459Z
LAST-MODIFIED:20180707T094829Z
UID:2995-1532285100-1532293200@www.harwellvillagehall.co.uk
SUMMARY:GoboYOOF presents "Princess Whatsername"
DESCRIPTION:Saturday 21st & Sunday 22nd July 2018\n6:45pm \nTickets £6 adults\, £4 children \nEmail info@gobotheatre.co.uk or phone 07970 581924 \nTo find out more about Gobo Theatre visit www.gobotheatre.co.uk
URL:https://www.harwellvillagehall.co.uk/event/goboyoof-presents-princess-whatsername-2/
LOCATION:Orchard Hall
CATEGORIES:Theatre
ATTACH;FMTTYPE=image/jpeg:https://www.harwellvillagehall.co.uk/wp-content/uploads/2017/11/PW-poster.jpg
ORGANIZER;CN="Gobo Theatre":MAILTO:info@gobotheatre.co.uk
END:VEVENT
BEGIN:VEVENT
DTSTART;TZID=Europe/London:20180721T184500
DTEND;TZID=Europe/London:20180721T210000
DTSTAMP:20260424T092411
CREATED:20171105T235954Z
LAST-MODIFIED:20180707T094949Z
UID:2988-1532198700-1532206800@www.harwellvillagehall.co.uk
SUMMARY:GoboYOOF presents "Princess Whatsername"
DESCRIPTION:Saturday 21st & Sunday 22nd July 2018\n6:45pm \nTickets £6 adults\, £4 children \nEmail info@gobotheatre.co.uk or phone 07970 581924 \nTo find out more about Gobo Theatre visit www.gobotheatre.co.uk
URL:https://www.harwellvillagehall.co.uk/event/goboyoof-presents-princess-whatsername/
LOCATION:Orchard Hall
CATEGORIES:Theatre
ATTACH;FMTTYPE=image/jpeg:https://www.harwellvillagehall.co.uk/wp-content/uploads/2017/11/PW-poster.jpg
ORGANIZER;CN="Gobo Theatre":MAILTO:info@gobotheatre.co.uk
END:VEVENT
END:VCALENDAR