BEGIN:VCALENDAR
VERSION:2.0
PRODID:-//Harwell Village Hall - ECPv6.15.20//NONSGML v1.0//EN
CALSCALE:GREGORIAN
METHOD:PUBLISH
X-ORIGINAL-URL:https://www.harwellvillagehall.co.uk
X-WR-CALDESC:Events for Harwell Village Hall
REFRESH-INTERVAL;VALUE=DURATION:PT1H
X-Robots-Tag:noindex
X-PUBLISHED-TTL:PT1H
BEGIN:VTIMEZONE
TZID:Europe/London
BEGIN:DAYLIGHT
TZOFFSETFROM:+0000
TZOFFSETTO:+0100
TZNAME:BST
DTSTART:20250330T010000
END:DAYLIGHT
BEGIN:STANDARD
TZOFFSETFROM:+0100
TZOFFSETTO:+0000
TZNAME:GMT
DTSTART:20251026T010000
END:STANDARD
BEGIN:DAYLIGHT
TZOFFSETFROM:+0000
TZOFFSETTO:+0100
TZNAME:BST
DTSTART:20260329T010000
END:DAYLIGHT
BEGIN:STANDARD
TZOFFSETFROM:+0100
TZOFFSETTO:+0000
TZNAME:GMT
DTSTART:20261025T010000
END:STANDARD
BEGIN:DAYLIGHT
TZOFFSETFROM:+0000
TZOFFSETTO:+0100
TZNAME:BST
DTSTART:20270328T010000
END:DAYLIGHT
BEGIN:STANDARD
TZOFFSETFROM:+0100
TZOFFSETTO:+0000
TZNAME:GMT
DTSTART:20271031T010000
END:STANDARD
END:VTIMEZONE
BEGIN:VEVENT
DTSTART;TZID=Europe/London:20260306T190000
DTEND;TZID=Europe/London:20260306T223000
DTSTAMP:20260424T092316
CREATED:20251109T201556Z
LAST-MODIFIED:20260201T155925Z
UID:5836-1772823600-1772836200@www.harwellvillagehall.co.uk
SUMMARY:Orchard Film Club - Downton Abbey - The Grand Finale (PG)
DESCRIPTION:When Mary finds herself in a public scandal and the family faces financial trouble\, the household grapples with the threat of social disgrace. The Crawleys must embrace change\, with the next generation leading Downton Abbey into the future. \nStars Hugh Bonneville\, Elizabeth McGovern and Michelle Dockery. \nTrailer:  https://www.youtube.com/watch?v=mkEtp65YGrA \nTickets are £6 per adult (£3 for under-17s) and will be available from mid-February from Bob’s Butchers.\nTickets will also be available on the door.\nWe are able to take contactless payments for tickets and bar sales on the night! \nDoors and bar will open at 7pm\, film will start at 7.30pm.
URL:https://www.harwellvillagehall.co.uk/event/orchard-film-club-title-to-be-announced-19/
LOCATION:Orchard Hall
CATEGORIES:Film
ATTACH;FMTTYPE=image/png:https://www.harwellvillagehall.co.uk/wp-content/uploads/2025/11/Downton-Finale-colour-portrait.png
ORGANIZER;CN="Orchard Film Club":MAILTO:orchardfilmclub@gmail.com
END:VEVENT
END:VCALENDAR